{"text_format":"1","workbook":"xlsx","n_sheets":11,"sheets":["Istruzioni","Copertina","Indice ","1. Conto Economico ","2. Cash Flow","3. Stato Patrimoniale","4. Ricavi","5. Costo produzione","6. Personale","7. Investimenti - Ammortamenti","8. Finanziamenti"],"not_rendered":{"charts":0,"images":2,"macros":1,"external_links":29,"defined_names":728,"comments":7,"pivot_tables":0},"unopened":[],"bounds":{"document_bytes":16777216,"sheet_cells":100000,"rows_first":2000,"rows_last":500,"rows_between":2000,"halvings":0,"cell_chars":16384,"cell_head_chars":4096},"cells_cut":0,"cells_raw":0,"read":"whole","date_system":"1900"}

{"sheet":"Istruzioni","index":0,"n_rows":15,"n_cols":3,"rows_kept":15,"cut":false,"hidden":false,"merged":[]}
[null,null,"ISTRUZIONI PER L'UTILIZZO DEL FILE"]
[null,"1)","Un volta aperto il file attivare il contenuto abilitando le Macro (vedere istruzioni sotto)"]
[null,"2)","Le celle modificabili sono colorate in rosa"]
[null,"3)","Utilizzare gli appositi pulsanti \"Separa\" e \"Raggruppa\" per raggruppare e separare le righe nei fogli"]
[null,"4)","Il file è strutturato come di seguito descritto:"]
[null,null,"Foglio 1 - Conto Economico: le voci principali sono alimentate da altri fogli; al suo interno sono ricomprese voci di costo modificabili. Le modifiche vengono fatte cambiando la percentuale di incidenza rispetto ai ricavi. Fanno eccezione le voci straordinarie e la voce \"Godimento beni di Terzi\" dove è possibile imputare direttamente il valore."]
[null,null,"Foglio 2 - Cash Flow: le voci relative ad incassi e pagamenti sono alimentate da altri fogli; in questo foglio è possibile modificare le aliquote IVA su costi e ricavi ed i giorni medi di dilazione relativi ad incassi e pagamenti. L'IVA è calcolata su tutti i ricavi e su tutte le voci di costo prima dell'EBITDA ad eccezione di: personale, costi amministrativi, godimento beni di terzi ed oneri diversi di gestione."]
[null,null,"Foglio 3 - Stato Patrimoniale: interamente alimentato dagli altri fogli."]
[null,null,"Foglio 4 - Ricavi: foglio nel quale vengono calcolati i ricavi per tipologia, alimenta il Conto Economico. Al suo interno è possibile stimare le quantità ed il prezzo dei prodotti/servizi venduti."]
[null,null,"Foglio 5 - Costo produzione: foglio nel quale vengono calcolati i costi di produzione, alimenta il Conto Economico. Al suo interno è possibile stimare le quantità e il costo medio di produzione per ogni prodotto/servizio."]
[null,null,"Foglio 6 - Personale: foglio nel quale vengono calcolati i costi del personale, alimenta il Conto Economico. Al suo interno è possibile indicare il numero di risorse impiegate per tipologia ed il relativo costo annuo."]
[null,null,"Foglio 7 - Investimenti - Ammortamenti: foglio nel quale vengono determinati gli investimenti, i relativi ammortamenti ed il valore delle immobilizzazioni. Al suo interno è possibile inserire, per tipologia, gli investimenti che verranno effettuati durante il periodo di piano, e le relative aliquote di ammortamento."]
[null,null,"Foglio 8 - Finanziamenti: foglio composto da due sezioni. Nella prima è possibile inserire gli apporti dei soci nel capitale dell'azienda, nella seconda è possibile impostare un finanziamento a medio - lungo termine indicando il numero di rate mensili, l'importo finanziato e il tasso d'interesse passivo annuale."]
[]
[null,null,"ATTIVAZIONE DELLE MACRO"]

{"sheet":"Copertina","index":1,"n_rows":23,"n_cols":5,"rows_kept":23,"cut":false,"hidden":false,"merged":[]}
[]
[]
[]
[null,null,null,null,"Titolo Progetto"]
[]
[]
[]
[]
[]
[]
[null,null,null,null,"BUSINESS PLAN"]
[]
[]
[]
[]
[null,null,null,"Versione 1"]
[]
[]
[]
[null,null,null,null,"Nome società"]
[]
[]
[null,null,null,null,"Data"]

{"sheet":"Indice ","index":2,"n_rows":18,"n_cols":2,"rows_kept":18,"cut":false,"hidden":false,"merged":[]}
[]
[]
[]
[null,"Indice"]
[]
[]
[]
[null,"SEZIONE I\n1. Conto Economico"]
[]
[null,"SEZIONE II\n2. Cash Flow"]
[]
[null,"SEZIONE III \n3. Stato Patrimoniale"]
[]
[null,"SEZIONE IV\n4. Ricavi\n5. Costo di produzione\n6. Personale"]
[]
[null,"SEZIONE V\n7. Investimenti - Ammortamenti"]
[]
[null,"SEZIONE VI\n8. Finanziamenti"]

{"sheet":"1. Conto Economico ","index":3,"n_rows":47,"n_cols":6,"rows_kept":47,"cut":false,"hidden":false,"merged":[]}
["Conto Economico ","Anno 1","Anno 2","Anno 3","Anno 4","Anno 5"]
["Ricavi"]
[{"$f":"+'4. Ricavi'!B3","v":"Prodotto/servizio 1"},{"$f":"+'4. Ricavi'!C3","v":0},{"$f":"+'4. Ricavi'!D3","v":0},{"$f":"+'4. Ricavi'!E3","v":0},{"$f":"+'4. Ricavi'!F3","v":0},{"$f":"+'4. Ricavi'!G3","v":0}]
[{"$f":"+'4. Ricavi'!B4","v":"Prodotto/servizio 2"},{"$f":"+'4. Ricavi'!C4","v":0},{"$f":"+'4. Ricavi'!D4","v":0},{"$f":"+'4. Ricavi'!E4","v":0},{"$f":"+'4. Ricavi'!F4","v":0},{"$f":"+'4. Ricavi'!G4","v":0}]
[{"$f":"+'4. Ricavi'!B5","v":"Prodotto/servizio 3"},{"$f":"+'4. Ricavi'!C5","v":0},{"$f":"+'4. Ricavi'!D5","v":0},{"$f":"+'4. Ricavi'!E5","v":0},{"$f":"+'4. Ricavi'!F5","v":0},{"$f":"+'4. Ricavi'!G5","v":0}]
["Totale Ricavi ",{"$f":"+B5+B4+B3","v":0},{"$f":"+C5+C4+C3","v":0},{"$f":"+D5+D4+D3","v":0},{"$f":"+E5+E4+E3","v":0},{"$f":"+F5+F4+F3","v":0}]
[{"$f":"+'4. Ricavi'!B20","v":"Provvigioni su vendite"},{"$f":"-'4. Ricavi'!C3*'4. Ricavi'!C21-'4. Ricavi'!C4*'4. Ricavi'!C22-'4. Ricavi'!C5*'4. Ricavi'!C23","v":0},{"$f":"-'4. Ricavi'!D3*'4. Ricavi'!D21-'4. Ricavi'!D4*'4. Ricavi'!D22-'4. Ricavi'!D5*'4. Ricavi'!D23","v":0},{"$f":"-'4. Ricavi'!E3*'4. Ricavi'!E21-'4. Ricavi'!E4*'4. Ricavi'!E22-'4. Ricavi'!E5*'4. Ricavi'!E23","v":0},{"$f":"-'4. Ricavi'!F3*'4. Ricavi'!F21-'4. Ricavi'!F4*'4. Ricavi'!F22-'4. Ricavi'!F5*'4. Ricavi'!F23","v":0},{"$f":"-'4. Ricavi'!G3*'4. Ricavi'!G21-'4. Ricavi'!G4*'4. Ricavi'!G22-'4. Ricavi'!G5*'4. Ricavi'!G23","v":0}]
["Totale Ricavi netti",{"$f":"+B6+B7","v":0},{"$f":"+C6+C7","v":0},0,0,0]
["Costi variabili"]
["Costi di produzione",{"$f":"+'5. Costo produzione'!C6","v":0},{"$f":"+'5. Costo produzione'!D6","v":0},{"$f":"+'5. Costo produzione'!E6","v":0},{"$f":"+'5. Costo produzione'!F6","v":0},{"$f":"+'5. Costo produzione'!G6","v":0}]
["Costi di trasporto e logistica",{"$f":"+B12*B6","v":0},{"$f":"+C12*C6","v":0},{"$f":"+D12*D6","v":0},{"$f":"+E12*E6","v":0},{"$f":"+F12*F6","v":0}]
["% incidenza di trasporto e logistica  su ricavi"]
["Manutenzioni",{"$f":"+B14*B6","v":0},{"$f":"+C14*C6","v":0},{"$f":"+D14*D6","v":0},{"$f":"+E14*E6","v":0},{"$f":"+F14*F6","v":0}]
["% incidenza manutenzioni su ricavi"]
["Totale Costi variabili",{"$f":"+B13+B11+B10","v":0},{"$f":"+C13+C11+C10","v":0},{"$f":"+D13+D11+D10","v":0},{"$f":"+E13+E11+E10","v":0},{"$f":"+F13+F11+F10","v":0}]
["Primo Margine ",{"$f":"+B8-B15","v":0},{"$f":"+C8-C15","v":0},{"$f":"+D8-D15","v":0},{"$f":"+E8-E15","v":0},{"$f":"+F8-F15","v":0}]
["Primo Margine / ricavi",{"$f":"IFERROR(+B16/B8,0)","v":0},{"$f":"IFERROR(+C16/C8,0)","v":0},0,0,0]
["Personale",{"$f":"+'6. Personale'!C7","v":0},{"$f":"+'6. Personale'!D7","v":0},{"$f":"+'6. Personale'!E7","v":0},{"$f":"+'6. Personale'!F7","v":0},{"$f":"+'6. Personale'!G7","v":0}]
["Costi amministrativi",{"$f":"+B20*B8","v":0},{"$f":"+C20*C8","v":0},{"$f":"+D20*D8","v":0},{"$f":"+E20*E8","v":0},{"$f":"+F20*F8","v":0}]
["% incidenza costi amministrativi su ricavi"]
["Godimento beni di terzi"]
["Trasferte e costi commerciali",{"$f":"+B23*B6","v":0},{"$f":"+C23*C6","v":0},{"$f":"+D23*D6","v":0},{"$f":"+E23*E6","v":0},{"$f":"+F23*F6","v":0}]
["% incidenza trasferte e costi commerciali su ricavi"]
["Oneri diversi di gestione",{"$f":"+B25*B6","v":0},{"$f":"+C25*C6","v":0},{"$f":"+D25*D6","v":0},{"$f":"+E25*E6","v":0},{"$f":"+F25*F6","v":0}]
["% incidenza oneri diversi su ricavi"]
["Totale Costi fissi",{"$f":"+B24+B22+B21+B19+B18","v":0},{"$f":"+C24+C22+C21+C19+C18","v":0},0,0,0]
[]
["EBITDA",{"$f":"+B16-B26","v":0},{"$f":"+C16-C26","v":0},{"$f":"+D16-D26","v":0},{"$f":"+E16-E26","v":0},{"$f":"+F16-F26","v":0}]
[]
["Ammortamenti immateriali ",{"$f":"+'7. Investimenti - Ammortamenti'!D40+'7. Investimenti - Ammortamenti'!D46+'7. Investimenti - Ammortamenti'!D52+'7. Investimenti - Ammortamenti'!D58+'7. Investimenti - Ammortamenti'!D64+'7. Investimenti - Ammortamenti'!D70","v":0},{"$f":"+'7. Investimenti - Ammortamenti'!E40+'7. Investimenti - Ammortamenti'!E46+'7. Investimenti - Ammortamenti'!E52+'7. Investimenti - Ammortamenti'!E58+'7. Investimenti - Ammortamenti'!E64+'7. Investimenti - Ammortamenti'!E70","v":0},{"$f":"+'7. Investimenti - Ammortamenti'!F40+'7. Investimenti - Ammortamenti'!F46+'7. Investimenti - Ammortamenti'!F52+'7. Investimenti - Ammortamenti'!F58+'7. Investimenti - Ammortamenti'!F64+'7. Investimenti - Ammortamenti'!F70","v":0},{"$f":"+'7. Investimenti - Ammortamenti'!G40+'7. Investimenti - Ammortamenti'!G46+'7. Investimenti - Ammortamenti'!G52+'7. Investimenti - Ammortamenti'!G58+'7. Investimenti - Ammortamenti'!G64+'7. Investimenti - Ammortamenti'!G70","v":0},{"$f":"+'7. Investimenti - Ammortamenti'!H40+'7. Investimenti - Ammortamenti'!H46+'7. Investimenti - Ammortamenti'!H52+'7. Investimenti - Ammortamenti'!H58+'7. Investimenti - Ammortamenti'!H64+'7. Investimenti - Ammortamenti'!H70","v":0}]
["Ammortamenti materiali",{"$f":"+'7. Investimenti - Ammortamenti'!D77+'7. Investimenti - Ammortamenti'!D83+'7. Investimenti - Ammortamenti'!D89+'7. Investimenti - Ammortamenti'!D95","v":0},{"$f":"+'7. Investimenti - Ammortamenti'!E77+'7. Investimenti - Ammortamenti'!E83+'7. Investimenti - Ammortamenti'!E89+'7. Investimenti - Ammortamenti'!E95","v":0},{"$f":"+'7. Investimenti - Ammortamenti'!F77+'7. Investimenti - Ammortamenti'!F83+'7. Investimenti - Ammortamenti'!F89+'7. Investimenti - Ammortamenti'!F95","v":0},{"$f":"+'7. Investimenti - Ammortamenti'!G77+'7. Investimenti - Ammortamenti'!G83+'7. Investimenti - Ammortamenti'!G89+'7. Investimenti - Ammortamenti'!G95","v":0},{"$f":"+'7. Investimenti - Ammortamenti'!H77+'7. Investimenti - Ammortamenti'!H83+'7. Investimenti - Ammortamenti'!H89+'7. Investimenti - Ammortamenti'!H95","v":0}]
["Ammortamenti",{"$f":"+B30+B31","v":0},0,0,0,0]
[]
["EBIT",{"$f":"+B28-B32","v":0},0,0,0,0]
[]
["Proventi finanziari ",{"$f":"+'2. Cash Flow'!C52","v":0},{"$f":"+'2. Cash Flow'!D52","v":0},{"$f":"+'2. Cash Flow'!E52","v":0},{"$f":"+'2. Cash Flow'!F52","v":0},{"$f":"+'2. Cash Flow'!G52","v":0}]
["Oneri da finanziamento a medio lungo termine",{"$f":"+'2. Cash Flow'!C44","v":0},{"$f":"+'2. Cash Flow'!D44","v":0},{"$f":"+'2. Cash Flow'!E44","v":0},{"$f":"+'2. Cash Flow'!F44","v":0},{"$f":"+'2. Cash Flow'!G44","v":0}]
["Oneri finanziari da banche a breve ",{"$f":"+'2. Cash Flow'!C53","v":0},{"$f":"+'2. Cash Flow'!D53","v":0},{"$f":"+'2. Cash Flow'!E53","v":0},{"$f":"+'2. Cash Flow'!F53","v":0},{"$f":"+'2. Cash Flow'!G53","v":0}]
["Gestione Finanziaria",{"$f":"SUM(B36:B38)","v":0},{"$f":"SUM(C36:C38)","v":0},0,0,0]
["Proventi straordinari"]
["Oneri straordinari"]
["Gestione Straordinaria",{"$f":"+B40-B41","v":0},{"$f":"+C40-C41","v":0},{"$f":"+D40-D41","v":0},{"$f":"+E40-E41","v":0},{"$f":"+F40-F41","v":0}]
["EBT",{"$f":"+B34+B39+B42","v":0},{"$f":"+C34+C39+C42","v":0},0,0,0]
[]
["Imposte",{"$f":"IF(B43>0,B43*(27.5%),0)+IF(B34+B18>0,(B18+B34)*0.039,0)","v":0},{"$f":"IF(C43>0,C43*(27.5%),0)+IF(C34+C18>0,(C18+C34)*0.039,0)","v":0},0,0,0]
[]
["Risultato Netto d'Esercizio",{"$f":"+B43-B45","v":0},{"$f":"+C43-C45","v":0},0,0,0]

{"sheet":"2. Cash Flow","index":4,"n_rows":54,"n_cols":18,"rows_kept":54,"cut":false,"hidden":false,"merged":[]}
["Cash Flow ","Giorni / aliquote","Anno 1","Anno 2","Anno 3","Anno 4","Anno 5","Anno 6"]
["Incassi da attività caratteristica",null,{"$f":"+'1. Conto Economico '!B8*(365-$B$2)/365","v":0},{"$f":"+'1. Conto Economico '!C8*(365-$B$2)/365","v":0},{"$f":"+'1. Conto Economico '!D8*(365-$B$2)/365","v":0},{"$f":"+'1. Conto Economico '!E8*(365-$B$2)/365","v":0},{"$f":"+'1. Conto Economico '!F8*(365-$B$2)/365","v":0},{"$f":"+'1. Conto Economico '!H8*(365-$B$2)/365","v":0}]
["Incassi di competenza",null,{"$f":"+C2","v":0},{"$f":"+D2","v":0},0,0,0,{"$f":"+H2","v":0}]
["Incassi da attività caratteristica",null,null,{"$f":"+'1. Conto Economico '!B8-C2","v":0},{"$f":"+'1. Conto Economico '!C8-D2","v":0},{"$f":"+'1. Conto Economico '!D8-E2","v":0},{"$f":"+'1. Conto Economico '!E8-F2","v":0},{"$f":"+'1. Conto Economico '!F8-G2","v":0}]
["Incassi esercizi precedenti ",null,{"$f":"+C4","v":0},{"$f":"+D4","v":0},0,0,0,{"$f":"+H4","v":0}]
["IVA su ricavi anno ",null,{"$f":"+$B$6*(C3)","v":0},{"$f":"+$B$6*(D3)","v":0},0,0,0,0]
["IVA su ricavi anno precedente",{"$f":"+B6","v":0},{"$f":"+$B$7*(C5)","v":0},{"$f":"+$B$7*(D5)","v":0},0,0,0,0]
["Incassi da proventi straordinari",null,{"$f":"+'1. Conto Economico '!B40","v":0},{"$f":"+'1. Conto Economico '!C40","v":0},{"$f":"+'1. Conto Economico '!D40","v":0},{"$f":"+'1. Conto Economico '!E40","v":0},{"$f":"+'1. Conto Economico '!F40","v":0}]
["Incassi dell'anno",null,{"$f":"+C3+C5+C7+C6+C8","v":0},{"$f":"+D3+D5+D7+D6+D8","v":0},0,0,0,{"$f":"+H3+H5+H7+H6","v":0}]
["Costi variabili",null,{"$f":"(+'1. Conto Economico '!B15)*(365-$B10)/365","v":0},{"$f":"(+'1. Conto Economico '!C15)*(365-$B10)/365","v":0},{"$f":"(+'1. Conto Economico '!D15)*(365-$B10)/365","v":0},{"$f":"(+'1. Conto Economico '!E15)*(365-$B10)/365","v":0},{"$f":"(+'1. Conto Economico '!F15)*(365-$B10)/365","v":0},{"$f":"(+'1. Conto Economico '!G15)*(365-$B10)/365","v":0}]
[{"$f":"+'1. Conto Economico '!A18","v":"Personale"},null,{"$f":"+'1. Conto Economico '!B18*(365-$B11)/365","v":0},{"$f":"+'1. Conto Economico '!C18*(365-$B11)/365","v":0},{"$f":"+'1. Conto Economico '!D18*(365-$B11)/365","v":0},{"$f":"+'1. Conto Economico '!E18*(365-$B11)/365","v":0},{"$f":"+'1. Conto Economico '!F18*(365-$B11)/365","v":0},{"$f":"+'1. Conto Economico '!H18*(365-$B11)/365","v":0}]
[{"$f":"+'1. Conto Economico '!A19","v":"Costi amministrativi"},null,{"$f":"+'1. Conto Economico '!B19*(365-$B12)/365","v":0},{"$f":"+'1. Conto Economico '!C19*(365-$B12)/365","v":0},{"$f":"+'1. Conto Economico '!D19*(365-$B12)/365","v":0},{"$f":"+'1. Conto Economico '!E19*(365-$B12)/365","v":0},{"$f":"+'1. Conto Economico '!F19*(365-$B12)/365","v":0},{"$f":"+'1. Conto Economico '!H19*(365-$B12)/365","v":0}]
[{"$f":"+'1. Conto Economico '!A21","v":"Godimento beni di terzi"},null,{"$f":"+'1. Conto Economico '!B21*(365-$B13)/365","v":0},{"$f":"+'1. Conto Economico '!C21*(365-$B13)/365","v":0},{"$f":"+'1. Conto Economico '!D21*(365-$B13)/365","v":0},{"$f":"+'1. Conto Economico '!E21*(365-$B13)/365","v":0},{"$f":"+'1. Conto Economico '!F21*(365-$B13)/365","v":0},{"$f":"+'1. Conto Economico '!H21*(365-$B13)/365","v":0}]
[{"$f":"+'1. Conto Economico '!A22","v":"Trasferte e costi commerciali"},null,{"$f":"+'1. Conto Economico '!B22*(365-$B14)/365","v":0},{"$f":"+'1. Conto Economico '!C22*(365-$B14)/365","v":0},{"$f":"+'1. Conto Economico '!D22*(365-$B14)/365","v":0},{"$f":"+'1. Conto Economico '!E22*(365-$B14)/365","v":0},{"$f":"+'1. Conto Economico '!F22*(365-$B14)/365","v":0},{"$f":"+'1. Conto Economico '!H22*(365-$B14)/365","v":0}]
[{"$f":"+'1. Conto Economico '!A24","v":"Oneri diversi di gestione"},null,{"$f":"+'1. Conto Economico '!B24*(365-$B15)/365","v":0},{"$f":"+'1. Conto Economico '!C24*(365-$B15)/365","v":0},{"$f":"+'1. Conto Economico '!D24*(365-$B15)/365","v":0},{"$f":"+'1. Conto Economico '!E24*(365-$B15)/365","v":0},{"$f":"+'1. Conto Economico '!F24*(365-$B15)/365","v":0},{"$f":"+'1. Conto Economico '!H24*(365-$B15)/365","v":0}]
["Pagamenti di competenza",null,{"$f":"SUM(C10:C15)","v":0},0,0,0,0,0]
["Costi variabili",null,null,{"$f":"(+'1. Conto Economico '!B15)-C10","v":0},{"$f":"(+'1. Conto Economico '!C15)-D10","v":0},{"$f":"(+'1. Conto Economico '!D15)-E10","v":0},{"$f":"(+'1. Conto Economico '!E15)-F10","v":0},{"$f":"(+'1. Conto Economico '!F15)-G10","v":0}]
[{"$f":"+A11","v":"Personale"},null,null,{"$f":"+'1. Conto Economico '!B18-C11","v":0},{"$f":"+'1. Conto Economico '!C18-D11","v":0},{"$f":"+'1. Conto Economico '!D18-E11","v":0},{"$f":"+'1. Conto Economico '!E18-F11","v":0},{"$f":"+'1. Conto Economico '!F18-G11","v":0}]
[{"$f":"+A12","v":"Costi amministrativi"},null,null,{"$f":"+'1. Conto Economico '!B19-C12","v":0},{"$f":"+'1. Conto Economico '!C19-D12","v":0},{"$f":"+'1. Conto Economico '!D19-E12","v":0},{"$f":"+'1. Conto Economico '!E19-F12","v":0},{"$f":"+'1. Conto Economico '!F19-G12","v":0}]
[{"$f":"+A13","v":"Godimento beni di terzi"},null,null,{"$f":"+'1. Conto Economico '!B21-C13","v":0},{"$f":"+'1. Conto Economico '!C21-D13","v":0},{"$f":"+'1. Conto Economico '!D21-E13","v":0},{"$f":"+'1. Conto Economico '!E21-F13","v":0},{"$f":"+'1. Conto Economico '!F21-G13","v":0}]
[{"$f":"+A14","v":"Trasferte e costi commerciali"},null,null,{"$f":"+'1. Conto Economico '!B22-C14","v":0},{"$f":"+'1. Conto Economico '!C22-D14","v":0},{"$f":"+'1. Conto Economico '!D22-E14","v":0},{"$f":"+'1. Conto Economico '!E22-F14","v":0},{"$f":"+'1. Conto Economico '!F22-G14","v":0}]
["Oneri diversi di gestione",null,null,{"$f":"+'1. Conto Economico '!B24-C15","v":0},{"$f":"+'1. Conto Economico '!C24-D15","v":0},{"$f":"+'1. Conto Economico '!D24-E15","v":0},{"$f":"+'1. Conto Economico '!E24-F15","v":0},{"$f":"+'1. Conto Economico '!F24-G15","v":0}]
["Pagamenti esercizi precedenti",null,{"$f":"SUM(C17:C22)","v":0},0,0,0,0,0]
["IVA su costi anno",null,{"$f":"+$B$24*(C10+C14+C12)","v":0},0,0,0,0,0]
["IVA su costi anno precedente",{"$f":"+B24","v":0},{"$f":"+$B$25*(C17+C21+C19)","v":0},0,0,0,0,0]
["Pagamento oneri straordinari",null,{"$f":"+'1. Conto Economico '!B41","v":0},{"$f":"+'1. Conto Economico '!C41","v":0},{"$f":"+'1. Conto Economico '!D41","v":0},{"$f":"+'1. Conto Economico '!E41","v":0},{"$f":"+'1. Conto Economico '!F41","v":0}]
["Pagamenti dell'anno",null,{"$f":"+C23+C16+C24+C25+C26","v":0},{"$f":"+D23+D16+D24+D25+D26","v":0},{"$f":"+E23+E16+E24+E25+E26","v":0},{"$f":"+F23+F16+F24+F25+F26","v":0},{"$f":"+G23+G16+G24+G25+G26","v":0},{"$f":"+H23+H16+H24+H25","v":0}]
["Imposte",null,null,{"$f":"+'1. Conto Economico '!B45","v":0},{"$f":"+'1. Conto Economico '!C45","v":0},{"$f":"+'1. Conto Economico '!D45","v":0},{"$f":"+'1. Conto Economico '!E45","v":0},{"$f":"+'1. Conto Economico '!F45","v":0}]
["Credito IVA Iniziale",null,null,{"$f":"+C33","v":0},{"$f":"+D33","v":0},{"$f":"+E33","v":0},0,0]
["IVA su ricavi",{"$f":"+B7","v":0},{"$f":"+$B$30*('1. Conto Economico '!B8)","v":0},{"$f":"+$B$30*('1. Conto Economico '!C8)","v":0},{"$f":"+$B$30*('1. Conto Economico '!D8)","v":0},{"$f":"+$B$30*('1. Conto Economico '!E8)","v":0},{"$f":"+$B$30*('1. Conto Economico '!F8)","v":0},{"$f":"+$B$30*('1. Conto Economico '!H8)","v":0}]
["IVA su costi e investimenti",{"$f":"+B24","v":0},{"$f":"+$B$31*('1. Conto Economico '!B15+'1. Conto Economico '!B22+'1. Conto Economico '!B19)-C38","v":0},{"$f":"+$B$31*('1. Conto Economico '!C15+'1. Conto Economico '!C22+'1. Conto Economico '!C19)-D38","v":0},{"$f":"+$B$31*('1. Conto Economico '!D15+'1. Conto Economico '!D22+'1. Conto Economico '!D19)-E38","v":0},{"$f":"+$B$31*('1. Conto Economico '!E15+'1. Conto Economico '!E22+'1. Conto Economico '!E19)-F38","v":0},{"$f":"+$B$31*('1. Conto Economico '!F15+'1. Conto Economico '!F22+'1. Conto Economico '!F19)-G38","v":0},{"$f":"+$B$31*('1. Conto Economico '!G15+'1. Conto Economico '!G22+'1. Conto Economico '!G19)-H38","v":{"$error":"#REF!"}}]
["Differenza di periodo",null,{"$f":"-C30+C31","v":0},{"$f":"-D30+D31","v":0},{"$f":"-E30+E31","v":0},0,0,{"$f":"-H30+H31","v":{"$error":"#REF!"}}]
["Credito IVA",null,{"$f":"+IF(C32+C29>0,C29+C32,0)","v":0},{"$f":"+IF(D32+D29>0,D29+D32,0)","v":0},0,0,0,{"$f":"+IF(H32+H29>0,H29+H32,0)","v":{"$error":"#REF!"}}]
["IVA versata annualmente (da saldo)",null,{"$f":"+IF(C33>0,0,C32+C29)","v":0},{"$f":"+IF(D33>0,0,D32+D29)","v":0},0,0,0,{"$f":"+IF(H33>0,0,H32+H29)","v":{"$error":"#REF!"}}]
["Cash Flow operativo",null,{"$f":"+C9-C27-C28+C34","v":0},0,0,0,0,{"$error":"#REF!"}]
["Immateriali ",null,{"$f":"-(+'7. Investimenti - Ammortamenti'!D5+'7. Investimenti - Ammortamenti'!D6+'7. Investimenti - Ammortamenti'!D7+'7. Investimenti - Ammortamenti'!D8+'7. Investimenti - Ammortamenti'!D9+'7. Investimenti - Ammortamenti'!D10)","v":0},{"$f":"-(+'7. Investimenti - Ammortamenti'!E5+'7. Investimenti - Ammortamenti'!E6+'7. Investimenti - Ammortamenti'!E7+'7. Investimenti - Ammortamenti'!E8+'7. Investimenti - Ammortamenti'!E9+'7. Investimenti - Ammortamenti'!E10)","v":0},{"$f":"-(+'7. Investimenti - Ammortamenti'!F5+'7. Investimenti - Ammortamenti'!F6+'7. Investimenti - Ammortamenti'!F7+'7. Investimenti - Ammortamenti'!F8+'7. Investimenti - Ammortamenti'!F9+'7. Investimenti - Ammortamenti'!F10)","v":0},{"$f":"-(+'7. Investimenti - Ammortamenti'!G5+'7. Investimenti - Ammortamenti'!G6+'7. Investimenti - Ammortamenti'!G7+'7. Investimenti - Ammortamenti'!G8+'7. Investimenti - Ammortamenti'!G9+'7. Investimenti - Ammortamenti'!G10)","v":0},{"$f":"-(+'7. Investimenti - Ammortamenti'!H5+'7. Investimenti - Ammortamenti'!H6+'7. Investimenti - Ammortamenti'!H7+'7. Investimenti - Ammortamenti'!H8+'7. Investimenti - Ammortamenti'!H9+'7. Investimenti - Ammortamenti'!H10)","v":0},{"$f":"-(+'7. Investimenti - Ammortamenti'!#REF!+'7. Investimenti - Ammortamenti'!#REF!+'7. Investimenti - Ammortamenti'!#REF!+'7. Investimenti - Ammortamenti'!#REF!+'7. Investimenti - Ammortamenti'!#REF!+'7. Investimenti - Ammortamenti'!#REF!)","v":{"$error":"#REF!"}}]
["Materiali",null,{"$f":"-(+'7. Investimenti - Ammortamenti'!D12+'7. Investimenti - Ammortamenti'!D13+'7. Investimenti - Ammortamenti'!D14+'7. Investimenti - Ammortamenti'!D15)","v":0},{"$f":"-(+'7. Investimenti - Ammortamenti'!E12+'7. Investimenti - Ammortamenti'!E13+'7. Investimenti - Ammortamenti'!E14+'7. Investimenti - Ammortamenti'!E15)","v":0},{"$f":"-(+'7. Investimenti - Ammortamenti'!F12+'7. Investimenti - Ammortamenti'!F13+'7. Investimenti - Ammortamenti'!F14+'7. Investimenti - Ammortamenti'!F15)","v":0},{"$f":"-(+'7. Investimenti - Ammortamenti'!G12+'7. Investimenti - Ammortamenti'!G13+'7. Investimenti - Ammortamenti'!G14+'7. Investimenti - Ammortamenti'!G15)","v":0},{"$f":"-(+'7. Investimenti - Ammortamenti'!H12+'7. Investimenti - Ammortamenti'!H13+'7. Investimenti - Ammortamenti'!H14+'7. Investimenti - Ammortamenti'!H15)","v":0},{"$f":"-(+'7. Investimenti - Ammortamenti'!#REF!+'7. Investimenti - Ammortamenti'!#REF!+'7. Investimenti - Ammortamenti'!#REF!+'7. Investimenti - Ammortamenti'!#REF!)","v":{"$error":"#REF!"}}]
["Iva su Investimenti",{"$f":"+B24","v":0},{"$f":"+$B$38*(C37+C36)","v":0},{"$f":"+$B$38*(D37+D36)","v":0},0,0,0,{"$f":"+$B$38*(H37+H36)","v":{"$error":"#REF!"}}]
["Totale Investimenti",null,{"$f":"+C37+C36+C38","v":0},{"$f":"+D37+D36+D38","v":0},0,0,0,{"$f":"+H37+H36+H38","v":{"$error":"#REF!"}}]
["Mutui",null,{"$f":"+'8. Finanziamenti'!B13","v":0}]
["Equity ",null,{"$f":"+'8. Finanziamenti'!B3","v":0},{"$f":"+'8. Finanziamenti'!C3","v":0},{"$f":"+'8. Finanziamenti'!D3","v":0},{"$f":"+'8. Finanziamenti'!E3","v":0},{"$f":"+'8. Finanziamenti'!F3","v":0},{"$f":"+'8. Finanziamenti'!G3","v":0}]
["Totale Finanziamenti",null,{"$f":"+C41+C40","v":0},{"$f":"+D41+D40","v":0},0,0,0,{"$f":"+H41+H40","v":0}]
["Quota Capitale",null,{"$f":"-'8. Finanziamenti'!B8","v":0},{"$f":"-'8. Finanziamenti'!C8","v":0},{"$f":"-'8. Finanziamenti'!D8","v":0},{"$f":"-'8. Finanziamenti'!E8","v":0},{"$f":"-'8. Finanziamenti'!F8","v":0},{"$f":"-'8. Finanziamenti'!G8","v":0}]
["Quota Interessi",null,{"$f":"-'8. Finanziamenti'!B7","v":0},{"$f":"-'8. Finanziamenti'!C7","v":0},{"$f":"-'8. Finanziamenti'!D7","v":0},{"$f":"-'8. Finanziamenti'!E7","v":0},{"$f":"-'8. Finanziamenti'!F7","v":0},{"$f":"-'8. Finanziamenti'!G7","v":0}]
["Rimborso  Mutuo",null,{"$f":"+C43+C44","v":0},{"$f":"+D43+D44","v":0},0,0,0,{"$f":"+H43+H44","v":0}]
["Totale Cash Flow",null,{"$f":"+C45+C42+C35+C39","v":0},{"$f":"+D45+D42+D35+D39","v":0},0,0,0,{"$f":"+H45+H42+H35+H39","v":{"$error":"#REF!"}}]
[]
["PFN a breve Iniziale ",null,0,{"$f":"+C54","v":0},{"$f":"+D54","v":0},0,0,0]
["Cash Flow totale",null,{"$f":"+C46","v":0},{"$f":"+D46","v":0},0,0,0,{"$f":"+H46","v":{"$error":"#REF!"}}]
["PFN a breve a fine periodo ante interessi",null,{"$f":"+C49+C48","v":0},{"$f":"+D49+D48","v":0},0,0,0,{"$f":"+H49+H48","v":{"$error":"#REF!"}}]
["Giacenza Media dell'anno",null,{"$f":"+(C48+C50)/2","v":0},0,{"$f":"+(E48+E50)/2","v":0},{"$f":"+(F48+F50)/2","v":0},0,{"$f":"+(H48+H50)/2","v":{"$error":"#REF!"}}]
["Interessi Attivi",null,{"$f":"+IF(C51>0,C51*$B$52,0)","v":0},{"$f":"+IF(D51>0,D51*$B$52,0)","v":0},{"$f":"+IF(E51>0,E51*$B$52,0)","v":0},0,0,{"$f":"+IF(H51>0,H51*$B$52,0)","v":{"$error":"#REF!"}}]
["Interessi Passivi",null,{"$f":"+IF(C51<0,C51*$B$53,0)","v":0},{"$f":"+IF(D51<0,D51*$B$53,0)","v":0},{"$f":"+IF(E51<0,E51*$B$53,0)","v":0},0,0,{"$f":"+IF(H51<0,H51*$B$53,0)","v":{"$error":"#REF!"}}]
["PFN a breve a fine periodo dopo interessi",null,{"$f":"+C50+C52+C53","v":0},{"$f":"+D50+D52+D53","v":0},0,0,0,{"$f":"+H50+H52+H53","v":{"$error":"#REF!"}},null,null,null,null,null,null,null,null,null,{"$f":"+R50+R52+R53","v":0}]

{"sheet":"3. Stato Patrimoniale","index":5,"n_rows":30,"n_cols":6,"rows_kept":30,"cut":false,"hidden":false,"merged":[]}
["Check ",{"$f":"+B16-B30","v":0},0,0,0,0]
["Stato Patrimoniale ","Anno 1","Anno 2","Anno 3","Anno 4","Anno 5"]
["Attivo"]
["Immobilizzazioni"]
["Immobilizzazioni immateriali",{"$f":"+'7. Investimenti - Ammortamenti'!D115+'7. Investimenti - Ammortamenti'!D116+'7. Investimenti - Ammortamenti'!D117+'7. Investimenti - Ammortamenti'!D118+'7. Investimenti - Ammortamenti'!D119+'7. Investimenti - Ammortamenti'!D120","v":0},{"$f":"+'7. Investimenti - Ammortamenti'!E115+'7. Investimenti - Ammortamenti'!E116+'7. Investimenti - Ammortamenti'!E117+'7. Investimenti - Ammortamenti'!E118+'7. Investimenti - Ammortamenti'!E119+'7. Investimenti - Ammortamenti'!E120","v":0},{"$f":"+'7. Investimenti - Ammortamenti'!F115+'7. Investimenti - Ammortamenti'!F116+'7. Investimenti - Ammortamenti'!F117+'7. Investimenti - Ammortamenti'!F118+'7. Investimenti - Ammortamenti'!F119+'7. Investimenti - Ammortamenti'!F120","v":0},{"$f":"+'7. Investimenti - Ammortamenti'!G115+'7. Investimenti - Ammortamenti'!G116+'7. Investimenti - Ammortamenti'!G117+'7. Investimenti - Ammortamenti'!G118+'7. Investimenti - Ammortamenti'!G119+'7. Investimenti - Ammortamenti'!G120","v":0},{"$f":"+'7. Investimenti - Ammortamenti'!H115+'7. Investimenti - Ammortamenti'!H116+'7. Investimenti - Ammortamenti'!H117+'7. Investimenti - Ammortamenti'!H118+'7. Investimenti - Ammortamenti'!H119+'7. Investimenti - Ammortamenti'!H120","v":0}]
["Immobilizzazioni materiali",{"$f":"+'7. Investimenti - Ammortamenti'!D122+'7. Investimenti - Ammortamenti'!D123+'7. Investimenti - Ammortamenti'!D124+'7. Investimenti - Ammortamenti'!D125","v":0},{"$f":"+'7. Investimenti - Ammortamenti'!E122+'7. Investimenti - Ammortamenti'!E123+'7. Investimenti - Ammortamenti'!E124+'7. Investimenti - Ammortamenti'!E125","v":0},{"$f":"+'7. Investimenti - Ammortamenti'!F122+'7. Investimenti - Ammortamenti'!F123+'7. Investimenti - Ammortamenti'!F124+'7. Investimenti - Ammortamenti'!F125","v":0},{"$f":"+'7. Investimenti - Ammortamenti'!G122+'7. Investimenti - Ammortamenti'!G123+'7. Investimenti - Ammortamenti'!G124+'7. Investimenti - Ammortamenti'!G125","v":0},{"$f":"+'7. Investimenti - Ammortamenti'!H122+'7. Investimenti - Ammortamenti'!H123+'7. Investimenti - Ammortamenti'!H124+'7. Investimenti - Ammortamenti'!H125","v":0}]
["Immobilizzazioni finanziarie"]
["Totale immobilizzazioni",{"$f":"+B6+B5+B7","v":0},0,0,0,0]
["Attivo Circolante"]
[]
["Credito IVA",{"$f":"+'2. Cash Flow'!C33","v":0},{"$f":"+'2. Cash Flow'!D33","v":0},{"$f":"+'2. Cash Flow'!E33","v":0},{"$f":"+'2. Cash Flow'!F33","v":0},{"$f":"+'2. Cash Flow'!G33","v":0}]
["Crediti Commerciali",{"$f":"+'2. Cash Flow'!D5+'2. Cash Flow'!D7-'2. Cash Flow'!C7-'2. Cash Flow'!C5","v":0},{"$f":"+'2. Cash Flow'!E5+'2. Cash Flow'!E7-'2. Cash Flow'!D7-'2. Cash Flow'!D5+B12","v":0},{"$f":"+'2. Cash Flow'!F5+'2. Cash Flow'!F7-'2. Cash Flow'!E7-'2. Cash Flow'!E5+C12","v":0},{"$f":"+'2. Cash Flow'!G5+'2. Cash Flow'!G7-'2. Cash Flow'!F7-'2. Cash Flow'!F5+D12","v":0},{"$f":"+'2. Cash Flow'!H5+'2. Cash Flow'!H7-'2. Cash Flow'!G7-'2. Cash Flow'!G5+E12","v":0}]
["Liquidità",{"$f":"+IF('2. Cash Flow'!C54>0,'2. Cash Flow'!C54,0)","v":0},{"$f":"+IF('2. Cash Flow'!D54>0,'2. Cash Flow'!D54,0)","v":0},{"$f":"+IF('2. Cash Flow'!E54>0,'2. Cash Flow'!E54,0)","v":0},{"$f":"+IF('2. Cash Flow'!F54>0,'2. Cash Flow'!F54,0)","v":0},{"$f":"+IF('2. Cash Flow'!G54>0,'2. Cash Flow'!G54,0)","v":0}]
["Totale attivo circolante",{"$f":"+B13+B12+B11","v":0},{"$f":"+C13+C12+C11","v":0},0,0,0]
[]
["Totale Attivo",{"$f":"+B14+B8","v":0},{"$f":"+C14+C8","v":0},{"$f":"+D14+D8","v":0},{"$f":"+E14+E8","v":0},{"$f":"+F14+F8","v":0}]
[]
["Passivo e patrimonio netto"]
["Capitale sociale",{"$f":"+'2. Cash Flow'!C41","v":0},{"$f":"+B19+'2. Cash Flow'!D41","v":0},{"$f":"+C19+'2. Cash Flow'!E41","v":0},{"$f":"+D19+'2. Cash Flow'!F41","v":0},{"$f":"+E19+'2. Cash Flow'!G41","v":0}]
["Utile d'esercizio",{"$f":"+'1. Conto Economico '!B47","v":0},{"$f":"+'1. Conto Economico '!C47","v":0},{"$f":"+'1. Conto Economico '!D47","v":0},{"$f":"+'1. Conto Economico '!E47","v":0},{"$f":"+'1. Conto Economico '!F47","v":0}]
["Utile esercizi precedenti",0,{"$f":"+B20+B21","v":0},{"$f":"+C20+C21","v":0},0,0]
["Patrimonio Netto",{"$f":"SUM(B19:B21)","v":0},{"$f":"SUM(C19:C21)","v":0},0,0,0]
["TFR"]
["Debiti tributari",{"$f":"+'1. Conto Economico '!B45","v":0},{"$f":"+'1. Conto Economico '!C45","v":0},{"$f":"+'1. Conto Economico '!D45","v":0},{"$f":"+'1. Conto Economico '!E45","v":0},{"$f":"+'1. Conto Economico '!F45","v":0}]
["Debiti commerciali",{"$f":"+'2. Cash Flow'!D23+'2. Cash Flow'!D25-'2. Cash Flow'!C23-'2. Cash Flow'!C25","v":0},{"$f":"+'2. Cash Flow'!E23+'2. Cash Flow'!E25-'2. Cash Flow'!D23-'2. Cash Flow'!D25+B25","v":0},{"$f":"+'2. Cash Flow'!F23+'2. Cash Flow'!F25-'2. Cash Flow'!E23-'2. Cash Flow'!E25+C25","v":0},{"$f":"+'2. Cash Flow'!G23+'2. Cash Flow'!G25-'2. Cash Flow'!F23-'2. Cash Flow'!F25+D25","v":0},{"$f":"+'2. Cash Flow'!H23+'2. Cash Flow'!H25-'2. Cash Flow'!G23-'2. Cash Flow'!G25+E25","v":0}]
["Debiti per Finanziamenti",{"$f":"+'8. Finanziamenti'!B13+'2. Cash Flow'!C43","v":0},{"$f":"+B26+'2. Cash Flow'!D43","v":0},{"$f":"+C26+'2. Cash Flow'!E43","v":0},{"$f":"+D26+'2. Cash Flow'!F43","v":0},{"$f":"+E26+'2. Cash Flow'!G43","v":0}]
["Debiti per scoperto c/c",{"$f":"+IF('2. Cash Flow'!C54<0,-'2. Cash Flow'!C54,0)","v":0},{"$f":"+IF('2. Cash Flow'!D54<0,-'2. Cash Flow'!D54,0)","v":0},{"$f":"+IF('2. Cash Flow'!E54<0,-'2. Cash Flow'!E54,0)","v":0},{"$f":"+IF('2. Cash Flow'!F54<0,-'2. Cash Flow'!F54,0)","v":0},{"$f":"+IF('2. Cash Flow'!G54<0,-'2. Cash Flow'!G54,0)","v":0}]
["Totale Debiti",{"$f":"+B27+B24+B26+B25","v":0},{"$f":"+C27+C24+C26+C25","v":0},0,0,0]
[]
["Totale Passivo e Patrimonio netto",{"$f":"+B28+B22+B23","v":0},0,0,0,0]

{"sheet":"4. Ricavi","index":6,"n_rows":23,"n_cols":7,"rows_kept":23,"cut":false,"hidden":false,"merged":[]}
[]
[null,"RICAVI","Anno 1","Anno 2","Anno 3","Anno 4","Anno 5"]
[null,{"$f":"+B9","v":"Prodotto/servizio 1"},{"$f":"+C9*C15","v":0},{"$f":"+D9*D15","v":0},0,0,0]
[null,{"$f":"+B10","v":"Prodotto/servizio 2"},{"$f":"+C10*C16","v":0},0,0,0,0]
[null,"Prodotto/servizio 3",{"$f":"+C11*C17","v":0},0,0,0,0]
[null,"TOTALE",{"$f":"SUM(C3:C5)","v":0},{"$f":"SUM(D3:D5)","v":0},0,0,0]
[]
[null,"Quantità","Anno 1","Anno 2","Anno 3","Anno 4","Anno 5"]
[null,"Prodotto/servizio 1"]
[null,"Prodotto/servizio 2"]
[null,"Prodotto/servizio 3"]
[null,"TOTALE",{"$f":"SUM(C9:C11)","v":0},{"$f":"SUM(D9:D11)","v":0},{"$f":"SUM(E9:E11)","v":0},{"$f":"SUM(F9:F11)","v":0},{"$f":"SUM(G9:G11)","v":0}]
[]
[null,"Prezzi unitari","Anno 1","Anno 2","Anno 3","Anno 4","Anno 5"]
[null,{"$f":"+B9","v":"Prodotto/servizio 1"}]
[null,{"$f":"+B10","v":"Prodotto/servizio 2"}]
[null,"Prodotto/servizio 3"]
[null,null,null,{"$f":"IFERROR(AVERAGE(D15:D17),0)","v":0},0,0]
[]
[null,"Provvigioni su vendite","Anno 1","Anno 2","Anno 3","Anno 4","Anno 5"]
[null,{"$f":"+B15","v":"Prodotto/servizio 1"}]
[null,{"$f":"+B16","v":"Prodotto/servizio 2"}]
[null,"Prodotto/servizio 3"]

{"sheet":"5. Costo produzione","index":7,"n_rows":19,"n_cols":7,"rows_kept":19,"cut":false,"hidden":false,"merged":[]}
[]
[null,"COSTI DI PRODUZIONE","Anno 1","Anno 2","Anno 3","Anno 4","Anno 5"]
[null,{"$f":"+B11","v":"Prodotto/servizio 1"},{"$f":"+C11*C17","v":0},{"$f":"+D11*D17","v":0},0,0,0]
[null,{"$f":"+B12","v":"Prodotto/servizio 2"},{"$f":"+C12*C18","v":0},0,0,0,0]
[null,"Prodotto/servizio 3",{"$f":"+C13*C19","v":0},0,0,0,0]
[null,"Totale costo produzione",{"$f":"+C3+C4+C5","v":0},{"$f":"+D3+D4+D5","v":0},0,0,0]
[null,"% incidenza costo produzione su ricavi",{"$f":"IFERROR(+C6/'1. Conto Economico '!B6,0)","v":0},{"$f":"IFERROR(+D6/'1. Conto Economico '!C6,0)","v":0},{"$f":"IFERROR(+E6/'1. Conto Economico '!D6,0)","v":0},{"$f":"IFERROR(+F6/'1. Conto Economico '!E6,0)","v":0},{"$f":"IFERROR(+G6/'1. Conto Economico '!F6,0)","v":0}]
[]
[]
[null,"Quantità acquistate","Anno 1","Anno 2","Anno 3","Anno 4","Anno 5"]
[null,{"$f":"+'4. Ricavi'!B9","v":"Prodotto/servizio 1"}]
[null,{"$f":"+'4. Ricavi'!B10","v":"Prodotto/servizio 2"}]
[null,{"$f":"+'4. Ricavi'!B11","v":"Prodotto/servizio 3"}]
[null,"TOTALE",{"$f":"SUM(C11:C13)","v":0},{"$f":"SUM(D11:D13)","v":0},{"$f":"SUM(E11:E13)","v":0},{"$f":"SUM(F11:F13)","v":0},{"$f":"SUM(G11:G13)","v":0}]
[]
[null,"Costo unitario di produzione","Anno 1","Anno 2","Anno 3","Anno 4","Anno 5"]
[null,{"$f":"+B11","v":"Prodotto/servizio 1"}]
[null,{"$f":"+B12","v":"Prodotto/servizio 2"}]
[null,"Prodotto/servizio 3"]

{"sheet":"6. Personale","index":8,"n_rows":16,"n_cols":7,"rows_kept":16,"cut":false,"hidden":false,"merged":[]}
["PERSONALE","Costo annuo FTE","Anno 1","Anno 2","Anno 3","Anno 4","Anno 5"]
["Soci",null,{"$f":"+C11*$B2","v":0},{"$f":"+D11*$B2","v":0},0,0,0]
["Quadri",null,{"$f":"+C12*$B3","v":0},{"$f":"+D12*$B3","v":0},0,0,0]
["Impiegati",null,{"$f":"+C13*$B4","v":0},{"$f":"+D13*$B4","v":0},0,0,0]
["Operai",null,{"$f":"+C14*$B5","v":0},0,0,0,0]
["Altro",null,{"$f":"+C15*$B6","v":0},0,0,0,0]
["TOTALE",null,{"$f":"SUM(C2:C6)","v":0},{"$f":"SUM(D2:D6)","v":0},0,0,0]
["Costo Medio",null,{"$f":"IFERROR(+C7/C16,0)","v":0},{"$f":"IFERROR(+D7/D16,0)","v":0},0,0,0]
[]
["N° Risorse",null,"Anno 1","Anno 2","Anno 3","Anno 4","Anno 5"]
[{"$f":"+A2","v":"Soci"}]
[{"$f":"+A3","v":"Quadri"}]
["Impiegati"]
["Operai"]
["Altro"]
["Totale (FTE)",null,{"$f":"SUM(C11:C15)","v":0},{"$f":"SUM(D11:D15)","v":0},{"$f":"SUM(E11:E15)","v":0},{"$f":"SUM(F11:F15)","v":0},{"$f":"SUM(G11:G15)","v":0}]

{"sheet":"7. Investimenti - Ammortamenti","index":9,"n_rows":126,"n_cols":8,"rows_kept":126,"cut":false,"hidden":false,"merged":[]}
[]
[null,"Ammortamenti e investimenti","Aliquote di ammortamento","Anno 1","Anno 2","Anno 3","Anno 4","Anno 5"]
[null,"INVESTIMENTI DELL'ANNO"]
[null,"IMMATERIALI"]
[null,"Servizi capitalizzabili"]
[null,"Marketing & Comunicazione"]
[null,"Marchi"]
[null,"Software"]
[null,"R&D "]
[null,"Altro"]
[null,"MATERIALI"]
[null,"Fabbricati"]
[null,"Impianti e macchinari"]
[null,"Attrezzature"]
[null,"Altro"]
[null,"Totale Investimenti per anno",null,{"$f":"SUM(D5:D15)","v":0},{"$f":"SUM(E5:E15)","v":0},{"$f":"SUM(F5:F15)","v":0},{"$f":"SUM(G5:G15)","v":0},{"$f":"SUM(H5:H15)","v":0}]
[]
[null,"INVESTIMENTI CUMULATI"]
[null,"IMMATERIALI"]
[null,{"$f":"+B5","v":"Servizi capitalizzabili"},null,{"$f":"+D5","v":0},{"$f":"+D20+E5","v":0},0,0,0]
[null,"Marketing & Comunicazione",null,0,0,0,0,0]
[null,"Marchi",null,0,0,0,0,0]
[null,"Software",null,0,0,0,0,0]
[null,"R&D ",null,0,0,0,0,0]
[null,"Altro",null,0,0,0,0,0]
[null,"MATERIALI"]
[null,{"$f":"+B12","v":"Fabbricati"},null,{"$f":"+D12","v":0},{"$f":"+D27+E12","v":0},0,0,0]
[null,{"$f":"+B13","v":"Impianti e macchinari"},null,{"$f":"+D13","v":0},0,0,0,0]
[null,{"$f":"+B14","v":"Attrezzature"},null,{"$f":"+D14","v":0},0,0,0,0]
[null,{"$f":"+B15","v":"Altro"},null,{"$f":"+D15","v":0},0,0,0,0]
[null,"Totale Investimenti cumulati",null,{"$f":"SUM(D20:D30)","v":0},{"$f":"SUM(E20:E30)","v":0},{"$f":"SUM(F20:F30)","v":0},0,0]
[]
[null,"AMMORTAMENTI DELL'ANNO"]
[null,"AMMORTAMENTO IMMOBILIZZAZIONI IMMATERIALI"]
[null,"Anno 1",null,{"$f":"+D$5*$C$40","v":0},{"$f":"+MIN($D5*$C$40,$D$5-SUM($D35:D35))","v":0},{"$f":"+MIN($D$5*$C$40,$D$5-SUM($D$35:E35))","v":0},{"$f":"+MIN($D$5*$C$40,$D$5-SUM($D$35:F35))","v":0},{"$f":"+MIN($D$5*$C$40,$D$5-SUM($D$35:G35))","v":0}]
[null,"Anno 2",null,null,{"$f":"+E$5*$C$40","v":0},{"$f":"+MIN($E5*$C$40,$E$5-SUM($D36:E36))","v":0},{"$f":"+MIN($E5*$C$40,$E$5-SUM($D36:F36))","v":0},{"$f":"+MIN($E5*$C$40,$E$5-SUM($D36:G36))","v":0}]
[null,"Anno 3",null,null,null,{"$f":"+F$5*$C$40","v":0},{"$f":"+MIN($F$5*$C$40,$F$5-SUM($D37:F37))","v":0},{"$f":"+MIN($F5*$C$40,$F$5-SUM($D37:G37))","v":0}]
[null,"Anno 4",null,null,null,null,{"$f":"+G$5*$C$40","v":0},{"$f":"+MIN($G$5*$C$40,$G$5-SUM($D38:G38))","v":0}]
[null,"Anno 5",null,null,null,null,null,{"$f":"+H$5*$C$40","v":0}]
[null,{"$f":"+B5","v":"Servizi capitalizzabili"},null,{"$f":"SUM(D35:D39)","v":0},{"$f":"SUM(E35:E39)","v":0},{"$f":"SUM(F35:F39)","v":0},0,0]
[null,"Anno 1",null,{"$f":"+D$6*$C$46","v":0},{"$f":"+MIN($D6*$C$46,$D$6-SUM($D41:D41))","v":0},{"$f":"+MIN($D6*$C$46,$D$6-SUM($D41:E41))","v":0},{"$f":"+MIN($D6*$C$46,$D$6-SUM($D41:F41))","v":0},{"$f":"+MIN($D6*$C$46,$D$6-SUM($D41:G41))","v":0}]
[null,"Anno 2",null,null,{"$f":"+E$6*$C$46","v":0},{"$f":"+MIN($E$6*$C$46,$E$6-SUM($D42:E42))","v":0},{"$f":"+MIN($E$6*$C$46,$E$6-SUM($D42:F42))","v":0},{"$f":"+MIN($E$6*$C$46,$E$6-SUM($D42:G42))","v":0}]
[null,"Anno 3",null,null,null,{"$f":"+F$6*$C$46","v":0},{"$f":"+MIN($F$6*$C$46,$F$6-SUM($D43:F43))","v":0},{"$f":"+MIN($F$6*$C$46,$F$6-SUM($D43:G43))","v":0}]
[null,"Anno 4",null,null,null,null,{"$f":"+G$6*$C$46","v":0},{"$f":"+MIN($G$6*$C$46,$G$6-SUM($D44:G44))","v":0}]
[null,"Anno 5",null,null,null,null,null,{"$f":"+H$6*$C$46","v":0}]
[null,{"$f":"+B6","v":"Marketing & Comunicazione"},null,{"$f":"SUM(D41:D45)","v":0},{"$f":"SUM(E41:E45)","v":0},{"$f":"SUM(F41:F45)","v":0},0,0]
[null,"Anno 1",null,{"$f":"+D$7*$C$52","v":0},{"$f":"+MIN($D7*$C$52,$D$7-SUM($D47:D47))","v":0},{"$f":"+MIN($D7*$C$52,$D$7-SUM($D47:E47))","v":0},{"$f":"+MIN($D7*$C$52,$D$7-SUM($D47:F47))","v":0},{"$f":"+MIN($D7*$C$52,$D$7-SUM($D47:G47))","v":0}]
[null,"Anno 2",null,null,{"$f":"+E$7*$C$52","v":0},{"$f":"+MIN($E$7*$C$52,$E$7-SUM($D48:E48))","v":0},{"$f":"+MIN($E7*$C$52,$E$7-SUM($D48:F48))","v":0},{"$f":"+MIN($E7*$C$52,$E$7-SUM($D48:G48))","v":0}]
[null,"Anno 3",null,null,null,{"$f":"+F$7*$C$52","v":0},{"$f":"+MIN($F$7*$C$52,$F$7-SUM($D49:F49))","v":0},{"$f":"+MIN($F$7*$C$52,$F$7-SUM($D49:G49))","v":0}]
[null,"Anno 4",null,null,null,null,{"$f":"+G$7*$C$52","v":0},{"$f":"+MIN($G$7*$C$52,$G$7-SUM($D50:G50))","v":0}]
[null,"Anno 5",null,null,null,null,null,{"$f":"+H$7*$C$52","v":0}]
[null,{"$f":"+B7","v":"Marchi"},null,{"$f":"SUM(D47:D51)","v":0},{"$f":"SUM(E47:E51)","v":0},{"$f":"SUM(F47:F51)","v":0},0,0]
[null,"Anno 1",null,{"$f":"+D$8*$C$58","v":0},{"$f":"+MIN($D$8*$C$58,$D$8-SUM($D53:D53))","v":0},{"$f":"+MIN($D$8*$C$58,$D$8-SUM($D53:E53))","v":0},{"$f":"+MIN($D$8*$C$58,$D$8-SUM($D53:F53))","v":0},{"$f":"+MIN($D$8*$C$58,$D$8-SUM($D53:G53))","v":0}]
[null,"Anno 2",null,null,{"$f":"+E$8*$C$58","v":0},{"$f":"+MIN($E$8*$C$58,$E$8-SUM($D54:E54))","v":0},{"$f":"+MIN($E$8*$C$58,$E$8-SUM($D54:F54))","v":0},{"$f":"+MIN($E$8*$C$58,$E$8-SUM($D54:G54))","v":0}]
[null,"Anno 3",null,null,null,{"$f":"+F$8*$C$58","v":0},{"$f":"+MIN($F$8*$C$58,$F$8-SUM($D55:F55))","v":0},{"$f":"+MIN($F$8*$C$58,$F$8-SUM($D55:G55))","v":0}]
[null,"Anno 4",null,null,null,null,{"$f":"+G$8*$C$58","v":0},{"$f":"+MIN($G$8*$C$58,$G$8-SUM($D56:G56))","v":0}]
[null,"Anno 5",null,null,null,null,null,{"$f":"+H$8*$C$58","v":0}]
[null,{"$f":"+B8","v":"Software"},null,{"$f":"SUM(D53:D57)","v":0},0,{"$f":"SUM(F53:F57)","v":0},0,0]
[null,"Anno 1",null,{"$f":"+D$9*$C$64","v":0},{"$f":"+MIN($D$9*$C$64,$D$9-SUM($D59:D59))","v":0},{"$f":"+MIN($D$9*$C$64,$D$9-SUM($D59:E59))","v":0},{"$f":"+MIN($D$9*$C$64,$D$9-SUM($D59:F59))","v":0},{"$f":"+MIN($D$9*$C$64,$D$9-SUM($D59:G59))","v":0}]
[null,"Anno 2",null,null,{"$f":"+E$9*$C$64","v":0},{"$f":"+MIN($E$9*$C$64,$E$9-SUM($D60:E60))","v":0},{"$f":"+MIN($E$9*$C$64,$E$9-SUM($D60:F60))","v":0},{"$f":"+MIN($E$9*$C$64,$E$9-SUM($D60:G60))","v":0}]
[null,"Anno 3",null,null,null,{"$f":"+F$9*$C$64","v":0},{"$f":"+MIN($F$9*$C$64,$F$9-SUM($D61:F61))","v":0},{"$f":"+MIN($F$9*$C$64,$F$9-SUM($D61:G61))","v":0}]
[null,"Anno 4",null,null,null,null,{"$f":"+G$9*$C$64","v":0},{"$f":"+MIN($G$9*$C$64,$G$9-SUM($D62:G62))","v":0}]
[null,"Anno 5",null,null,null,null,null,{"$f":"+H$9*$C$64","v":0}]
[null,{"$f":"+B9","v":"R&D "},null,{"$f":"SUM(D59:D63)","v":0},{"$f":"SUM(E59:E63)","v":0},{"$f":"SUM(F59:F63)","v":0},0,0]
[null,"Anno 1",null,{"$f":"+D$10*$C$70","v":0},{"$f":"+MIN($D$10*$C$70,$D$10-SUM($D65:D65))","v":0},{"$f":"+MIN($D$10*$C$70,$D$10-SUM($D65:E65))","v":0},{"$f":"+MIN($D$10*$C$70,$D$10-SUM($D65:F65))","v":0},{"$f":"+MIN($D$10*$C$70,$D$10-SUM($D65:G65))","v":0}]
[null,"Anno 2",null,null,{"$f":"+E$10*$C$70","v":0},{"$f":"+MIN($E$10*$C$70,$E$10-SUM($D66:E66))","v":0},{"$f":"+MIN($E$10*$C$70,$E$10-SUM($D66:F66))","v":0},{"$f":"+MIN($E$10*$C$70,$E$10-SUM($D66:G66))","v":0}]
[null,"Anno 3",null,null,null,{"$f":"+F$10*$C$70","v":0},{"$f":"+MIN($F$10*$C$70,$F$10-SUM($D67:F67))","v":0},{"$f":"+MIN($F$10*$C$70,$F$10-SUM($D67:G67))","v":0}]
[null,"Anno 4",null,null,null,null,{"$f":"+G$10*$C$70","v":0},{"$f":"+MIN($G$10*$C$70,$G$10-SUM($D68:G68))","v":0}]
[null,"Anno 5",null,null,null,null,null,{"$f":"+H$10*$C$70","v":0}]
[null,{"$f":"+B10","v":"Altro"},null,{"$f":"SUM(D65:D69)","v":0},{"$f":"SUM(E65:E69)","v":0},{"$f":"SUM(F65:F69)","v":0},0,0]
[null,"AMMORTAMENTO IMMOBILIZZAZIONI MATERIALI"]
[null,"Anno 1",null,{"$f":"+D$12*$C$77","v":0},{"$f":"+MIN($D$12*$C$77,$D$12-SUM($D72:D72))","v":0},{"$f":"+MIN($D$12*$C$77,$D$12-SUM($D72:E72))","v":0},{"$f":"+MIN($D$12*$C$77,$D$12-SUM($D72:F72))","v":0},{"$f":"+MIN($D$12*$C$77,$D$12-SUM($D72:G72))","v":0}]
[null,"Anno 2",null,null,{"$f":"+E$12*$C$77","v":0},{"$f":"+MIN($E$12*$C$77,$E$12-SUM($D73:E73))","v":0},{"$f":"+MIN($E$12*$C$77,$E$12-SUM($D73:F73))","v":0},{"$f":"+MIN($E$12*$C$77,$E$12-SUM($D73:G73))","v":0}]
[null,"Anno 3",null,null,null,{"$f":"+F$12*$C$77","v":0},{"$f":"+MIN($F$12*$C$77,$F$12-SUM($D74:F74))","v":0},{"$f":"+MIN($F$12*$C$77,$F$12-SUM($D74:G74))","v":0}]
[null,"Anno 4",null,null,null,null,{"$f":"+G$12*$C$77","v":0},{"$f":"+MIN($G$12*$C$77,$G$12-SUM($D75:G75))","v":0}]
[null,"Anno 5",null,null,null,null,null,{"$f":"+H$12*$C$77","v":0}]
[null,{"$f":"+B27","v":"Fabbricati"},null,{"$f":"SUM(D72:D76)","v":0},0,{"$f":"SUM(F72:F76)","v":0},0,0]
[null,"Anno 1",null,{"$f":"+D$13*$C$83","v":0},{"$f":"+MIN($D$13*$C$83,$D$13-SUM($D78:D78))","v":0},{"$f":"+MIN($D$13*$C$83,$D$13-SUM($D78:E78))","v":0},{"$f":"+MIN($D$13*$C$83,$D$13-SUM($D78:F78))","v":0},{"$f":"+MIN($D$13*$C$83,$D$13-SUM($D78:G78))","v":0}]
[null,"Anno 2",null,null,{"$f":"+E$13*$C$83","v":0},{"$f":"+MIN($E$13*$C$83,$E$13-SUM($D79:E79))","v":0},{"$f":"+MIN($E$13*$C$83,$E$13-SUM($D79:F79))","v":0},{"$f":"+MIN($E$13*$C$83,$E$13-SUM($D79:G79))","v":0}]
[null,"Anno 3",null,null,null,{"$f":"+F$13*$C$83","v":0},{"$f":"+MIN($F$13*$C$83,$F$13-SUM($D80:F80))","v":0},{"$f":"+MIN($F$13*$C$83,$F$13-SUM($D80:G80))","v":0}]
[null,"Anno 4",null,null,null,null,{"$f":"+G$13*$C$83","v":0},{"$f":"+MIN($G$13*$C$83,$G$13-SUM($D81:G81))","v":0}]
[null,"Anno 5",null,null,null,null,null,{"$f":"+H$13*$C$83","v":0}]
[null,{"$f":"+B28","v":"Impianti e macchinari"},null,{"$f":"SUM(D78:D82)","v":0},0,{"$f":"SUM(F78:F82)","v":0},0,0]
[null,"Anno 1",null,{"$f":"+D$14*$C$89","v":0},{"$f":"+MIN($D$14*$C$89,$D$14-SUM($D84:D84))","v":0},{"$f":"+MIN($D$14*$C$89,$D$14-SUM($D84:E84))","v":0},{"$f":"+MIN($D$14*$C$89,$D$14-SUM($D84:F84))","v":0},{"$f":"+MIN($D$14*$C$89,$D$14-SUM($D84:G84))","v":0}]
[null,"Anno 2",null,null,{"$f":"+E$14*$C$89","v":0},{"$f":"+MIN($E$14*$C$89,$E$14-SUM($D85:E85))","v":0},{"$f":"+MIN($E$14*$C$89,$E$14-SUM($D85:F85))","v":0},{"$f":"+MIN($E$14*$C$89,$E$14-SUM($D85:G85))","v":0}]
[null,"Anno 3",null,null,null,{"$f":"+F$14*$C$89","v":0},null,{"$f":"+MIN($F$14*$C$89,$F$14-SUM($D86:G86))","v":0}]
[null,"Anno 4",null,null,null,null,{"$f":"+G$14*$C$89","v":0},{"$f":"+MIN($G$14*$C$89,$G$14-SUM($D86:F86))","v":0}]
[null,"Anno 5",null,null,null,null,null,{"$f":"+H$14*$C$89","v":0}]
[null,{"$f":"+B29","v":"Attrezzature"},null,{"$f":"SUM(D84:D88)","v":0},0,{"$f":"SUM(F84:F88)","v":0},0,0]
[null,"Anno 1",null,{"$f":"+D$15*$C$95","v":0},{"$f":"+MIN($D$15*$C$95,$D$15-SUM($D90:D90))","v":0},{"$f":"+MIN($D$15*$C$95,$D$15-SUM($D90:E90))","v":0},{"$f":"+MIN($D$15*$C$95,$D$15-SUM($D90:F90))","v":0},{"$f":"+MIN($D$15*$C$95,$D$15-SUM($D90:G90))","v":0}]
[null,"Anno 2",null,null,{"$f":"+E$15*$C$95","v":0},{"$f":"+MIN($E$15*$C$95,$E$15-SUM($D91:E91))","v":0},{"$f":"+MIN($E$15*$C$95,$E$15-SUM($D91:F91))","v":0},{"$f":"+MIN($E$15*$C$95,$E$15-SUM($D91:G91))","v":0}]
[null,"Anno 3",null,null,null,{"$f":"+F$15*$C$95","v":0},{"$f":"+MIN($F$15*$C$95,$F$15-SUM($D92:F92))","v":0},{"$f":"+MIN($F$15*$C$95,$F$15-SUM($D92:G92))","v":0}]
[null,"Anno 4",null,null,null,null,{"$f":"+G$15*$C$95","v":0},{"$f":"+MIN($G$15*$C$95,$G$15-SUM($D93:G93))","v":0}]
[null,"Anno 5",null,null,null,null,null,{"$f":"+H$15*$C$95","v":0}]
[null,{"$f":"+B15","v":"Altro"},null,{"$f":"SUM(D90:D94)","v":0},{"$f":"SUM(E90:E94)","v":0},0,0,0]
[null,"Ammortamenti",null,{"$f":"+D40+D46+D52+D70+D95+D77+D83+D89+D58+D64","v":0},0,0,0,{"$f":"+H40+H46+H52+H70+H95+H77+H83+H89+H58+H64","v":0}]
[]
[null,"FONDO AMMORTAMENTO"]
[null,"IMMATERIALI"]
[null,{"$f":"+B5","v":"Servizi capitalizzabili"},null,{"$f":"+D40","v":0},{"$f":"+D100+E40","v":0},{"$f":"+E100+F40","v":0},{"$f":"+F100+G40","v":0},{"$f":"+G100+H40","v":0}]
[null,{"$f":"+B6","v":"Marketing & Comunicazione"},null,{"$f":"+D46","v":0},{"$f":"+D101+E46","v":0},{"$f":"+E101+F46","v":0},{"$f":"+F101+G46","v":0},{"$f":"+G101+H46","v":0}]
[null,{"$f":"+B7","v":"Marchi"},null,{"$f":"+D52","v":0},{"$f":"+D102+E52","v":0},{"$f":"+E102+F52","v":0},{"$f":"+F102+G52","v":0},{"$f":"+G102+H52","v":0}]
[null,{"$f":"+B58","v":"Software"},null,{"$f":"+D58","v":0},{"$f":"+E58+D103","v":0},{"$f":"+F58+E103","v":0},{"$f":"+G58+F103","v":0},{"$f":"+H58+G103","v":0}]
[null,{"$f":"+B9","v":"R&D "},null,{"$f":"+D64","v":0},{"$f":"+D104+E64","v":0},{"$f":"+E104+F64","v":0},{"$f":"+F104+G64","v":0},{"$f":"+G104+H64","v":0}]
[null,{"$f":"+B10","v":"Altro"},null,{"$f":"+D70","v":0},{"$f":"+D105+E70","v":0},{"$f":"+E105+F70","v":0},{"$f":"+F105+G70","v":0},{"$f":"+G105+H70","v":0}]
[null,"MATERIALI"]
[null,{"$f":"+B77","v":"Fabbricati"},null,{"$f":"+D77","v":0},{"$f":"+D107+E77","v":0},{"$f":"+E107+F77","v":0},{"$f":"+F107+G77","v":0},{"$f":"+G107+H77","v":0}]
[null,{"$f":"+B83","v":"Impianti e macchinari"},null,{"$f":"+D83","v":0},{"$f":"+E83+D108","v":0},{"$f":"+F83+E108","v":0},{"$f":"+G83+F108","v":0},{"$f":"+H83+G108","v":0}]
[null,{"$f":"+B89","v":"Attrezzature"},null,{"$f":"+D89","v":0},{"$f":"+E89+D109","v":0},{"$f":"+F89+E109","v":0},{"$f":"+G89+F109","v":0},{"$f":"+H89+G109","v":0}]
[null,{"$f":"+B15","v":"Altro"},null,{"$f":"+D95","v":0},{"$f":"+D110+E95","v":0},{"$f":"+E110+F95","v":0},{"$f":"+F110+G95","v":0},{"$f":"+G110+H95","v":0}]
[null,"Fondo Ammortamento Totale",null,{"$f":"SUM(D100:D110)","v":0},{"$f":"SUM(E100:E110)","v":0},{"$f":"SUM(F100:F110)","v":0},{"$f":"SUM(G100:G110)","v":0},{"$f":"SUM(H100:H110)","v":0}]
[]
[null,"VALORE CONTABILE NETTO"]
[null,"IMMATERIALI"]
[null,{"$f":"+B5","v":"Servizi capitalizzabili"},null,{"$f":"+D20-D100","v":0},0,0,0,0]
[null,{"$f":"+B6","v":"Marketing & Comunicazione"},null,0,0,0,0,0]
[null,{"$f":"+B7","v":"Marchi"},null,0,0,0,0,0]
[null,{"$f":"+B103","v":"Software"},null,0,0,0,0,0]
[null,{"$f":"+B9","v":"R&D "},null,0,0,0,0,0]
[null,{"$f":"+B10","v":"Altro"},null,0,0,0,0,0]
[null,"MATERIALI"]
[null,{"$f":"+B107","v":"Fabbricati"},null,{"$f":"+D27-D107","v":0},0,0,0,0]
[null,{"$f":"+B108","v":"Impianti e macchinari"},null,0,0,0,0,0]
[null,{"$f":"+B109","v":"Attrezzature"},null,0,0,0,0,0]
[null,{"$f":"+B15","v":"Altro"},null,0,0,0,0,0]
[null,"Valore Contabile Netto",null,{"$f":"SUM(D115:D125)","v":0},{"$f":"SUM(E115:E125)","v":0},{"$f":"SUM(F115:F125)","v":0},{"$f":"SUM(G115:G125)","v":0},{"$f":"SUM(H115:H125)","v":0}]

{"sheet":"8. Finanziamenti","index":10,"n_rows":143,"n_cols":6,"rows_kept":143,"cut":false,"hidden":false,"merged":[]}
[]
["APPORTI IN EQUITY","Anno 1","Anno 2","Anno 3","Anno 4","Anno 5"]
["Apporti"]
[]
["DEBITI A MEDIO LUNGO TERMINE"]
["Riepilogo",1,2,3,4,5]
["Quote Interessi",{"$f":"+MAX(SUMIF($B$18:$B$137,B6,$D$18:$D$137),0)","v":0},0,0,0,0]
["Quote Capitale",{"$f":"+MAX(SUMIF($B$18:$B$137,B6,$C$18:$C$137),0)","v":0},{"$f":"+MAX(SUMIF($B$18:$B$137,C6,$C$18:$C$137),0)","v":0},0,0,0]
["Rate complessive",{"$f":"SUM(B7:B8)","v":0},{"$f":"SUM(C7:C8)","v":0},0,0,0]
[]
["PIANO D'AMMORTAMENTO"]
["Periodi:"]
["Importo finanziato:"]
["Tasso annuale"]
["Tasso mensile (approssimato):",{"$f":"+B14/12","v":0}]
[]
["N. Rata","Scadenza","Quota Capitale","Quota Interessi","Rata (mensile)","Debito residuo"]
[1,1,{"$f":"+E18-D18","v":0},{"$f":"+IF(E18=0,0,B13*$B$15)","v":0},{"$f":"IFERROR(-PMT(B15,B12,B13,0),0)","v":0},{"$f":"+IF(E18=0,0,+B13-C18)","v":0}]
[2,{"$f":"+B18","v":1},{"$f":"+E19-D19","v":0},{"$f":"+F18*$B$15","v":0},{"$f":"+IF(A19>$B$12,0,E18)","v":0},{"$f":"F18-C19","v":0}]
[3,{"$f":"+B19","v":1},0,{"$f":"+F19*$B$15","v":0},{"$f":"+IF(A20>$B$12,0,E19)","v":0},0]
[4,1,0,0,{"$f":"+IF(A21>$B$12,0,E20)","v":0},0]
[5,1,0,0,{"$f":"+IF(A22>$B$12,0,E21)","v":0},0]
[6,1,0,0,0,0]
[7,1,0,0,0,0]
[8,1,0,0,0,0]
[9,1,0,0,0,0]
[10,1,0,0,0,0]
[11,1,0,0,0,0]
[12,1,0,0,0,0]
[13,{"$f":"+B18+1","v":2},0,0,0,0]
[14,{"$f":"+B19+1","v":2},0,0,0,0]
[15,2,0,0,0,0]
[16,2,0,0,0,0]
[17,2,0,0,0,0]
[18,2,0,0,0,0]
[19,2,0,0,0,0]
[20,2,0,0,0,0]
[21,2,0,0,0,0]
[22,2,0,0,0,0]
[23,2,0,0,0,0]
[24,2,0,0,0,0]
[25,3,0,0,0,0]
[26,3,0,0,0,0]
[27,3,0,0,0,0]
[28,3,0,0,0,0]
[29,3,0,0,0,0]
[30,3,0,0,0,0]
[31,3,0,0,0,0]
[32,3,0,0,0,0]
[33,3,0,0,0,0]
[34,3,0,0,0,0]
[35,3,0,0,0,0]
[36,3,0,0,0,0]
[37,4,0,0,0,0]
[38,4,0,0,0,0]
[39,4,0,0,0,0]
[40,4,0,0,0,0]
[41,4,0,0,0,0]
[42,4,0,0,0,0]
[43,4,0,0,0,0]
[44,4,0,0,0,0]
[45,4,0,0,0,0]
[46,4,0,0,0,0]
[47,4,0,0,0,0]
[48,4,0,0,0,0]
[49,5,0,0,0,0]
[50,5,0,0,0,0]
[51,5,0,0,0,0]
[52,5,0,0,0,0]
[53,5,0,0,0,0]
[54,5,0,0,0,0]
[55,5,0,0,0,0]
[56,5,0,0,0,0]
[57,5,0,0,0,0]
[58,5,0,0,0,0]
[59,5,0,0,0,0]
[60,5,0,0,0,0]
[61,6,0,0,0,0]
[62,6,0,0,0,0]
[63,6,0,0,0,0]
[64,6,0,0,0,0]
[65,6,0,0,0,0]
[66,6,{"$f":"+E83-D83","v":0},0,0,{"$f":"F82-C83","v":0}]
[67,6,0,{"$f":"+F83*$B$15","v":0},0,0]
[68,6,0,0,0,0]
[69,6,0,0,{"$f":"+IF(A86>$B$12,0,E85)","v":0},0]
[70,6,0,0,0,0]
[71,6,0,0,0,0]
[72,6,0,0,0,0]
[73,7,0,0,0,0]
[74,7,0,0,0,0]
[75,7,0,0,0,0]
[76,7,0,0,0,0]
[77,7,0,0,0,0]
[78,{"$f":"+B83+1","v":7},0,0,0,0]
[79,7,0,0,0,0]
[80,7,0,0,0,0]
[81,7,0,0,0,0]
[82,7,0,0,0,0]
[83,7,0,0,0,0]
[84,7,0,0,0,0]
[85,8,0,0,0,0]
[86,8,0,0,0,0]
[87,8,0,0,0,0]
[88,8,0,0,0,0]
[89,8,0,0,0,0]
[90,8,0,0,0,0]
[91,8,0,0,0,0]
[92,8,0,0,0,0]
[93,8,0,0,0,0]
[94,8,0,0,0,0]
[95,8,0,0,0,0]
[96,8,0,0,0,0]
[97,9,0,0,0,0]
[98,9,0,0,0,0]
[99,9,0,0,0,0]
[100,9,0,0,0,0]
[101,9,0,0,0,0]
[102,9,0,0,0,0]
[103,9,0,0,0,0]
[104,9,0,0,0,0]
[105,9,0,0,0,0]
[106,9,0,0,0,0]
[107,9,0,0,0,0]
[108,9,0,0,0,0]
[109,10,0,0,0,0]
[110,10,0,0,0,0]
[111,10,0,0,0,0]
[112,10,0,0,0,0]
[113,10,0,0,0,0]
[114,10,0,0,0,0]
[115,10,0,0,0,0]
[116,10,0,0,0,0]
[117,10,0,0,0,0]
[118,10,0,0,0,0]
[119,10,0,0,0,0]
[120,10,0,0,0,0]
[]
[]
[]
[]
[]
[null,null,null,null," "]